BEGIN:VCALENDAR
VERSION:2.0
BEGIN:VEVENT
UID:ics69e5f3cb6e488
DTSTAMP:20260420T093715Z
LOCATION:Hjärtaskog Fritidsgard
DESCRIPTION:
URL:https://www.maennerforum-nordkirche.de/veranstaltung/maennerwoche-in-schweden-1389755/
SUMMARY:Männerwoche in Schweden
DTSTART:20240531T220000Z
DTEND:20240607T220000Z
END:VEVENT
END:VCALENDAR
