BEGIN:VCALENDAR
VERSION:2.0
BEGIN:VEVENT
UID:ics69e8cfacea7ef
DTSTAMP:20260422T133956Z
LOCATION:DIGITAL
DESCRIPTION:
URL:https://www.maennerforum-nordkirche.de/veranstaltung/im-abseits-maenner-in-der-haeuslichen-pflege-1449697/
SUMMARY:Im Abseits: Männer in der häuslichen Pflege
DTSTART:20260612T090000Z
DTEND:20260612T103000Z
END:VEVENT
END:VCALENDAR
